BEGIN:VCALENDAR
PRODID:-//eluceo/ical//2.0/EN
VERSION:2.0
CALSCALE:GREGORIAN
BEGIN:VEVENT
UID:d2cce60a1e543d690e5a7787dddf9345
DTSTAMP:20260422T095353Z
SUMMARY:Joint Annual Meeting
DESCRIPTION:Shaw JCC of Akron\nJCC Calendar\nhttps://shawjcc.org/jcccalenda
 r/joint-annual-meeting2019-277315\n\nThe community is invited to attend th
 is year's Jewish Community Board of Akron's Annual Joint Meeting and Insta
 llation of Officers. It will be held on Wednesday\, June 5 at 6:30 p.m. a
 t the Schultz Campus for Jewish Life. Dessert and coffee will be served. N
 o charge and no solicitation. No RSVP is required.
DTSTART;TZID=America/New_York:20190605T183000
DTEND;TZID=America/New_York:20190605T200000
END:VEVENT
END:VCALENDAR
