BEGIN:VCALENDAR
PRODID:-//eluceo/ical//2.0/EN
VERSION:2.0
CALSCALE:GREGORIAN
BEGIN:VEVENT
UID:8950df2c4104a7ad081b08a187a62580
DTSTAMP:20260425T124712Z
SUMMARY:Jr. Lifeguarding Camp
DESCRIPTION:Shaw JCC of Akron\nJCC Calendar\nhttps://shawjcc.org/jcccalenda
 r/jr-lifeguarding-camp\n\nJr. Lifeguarding Camp is perfect for those kids 
 who want to serve as future lifeguards and is a great way for kids to stay
  fit while learning about water and home safety. Bring your swim suit and 
 have fun learning what it’s like to be a future lifesaver. Participants 
 should have completed level 5 swim lessons and be able to swim four length
 s of the pool using both freestyle and breaststroke during swim. Age 11-13
 . Limited to 10 registrants.\n\n603.910         Cost: $170 M/$190 
 G\n\n...
DTSTART;TZID=America/New_York:20190715T090000
DTEND;TZID=America/New_York:20190715T150000
END:VEVENT
END:VCALENDAR
