BEGIN:VCALENDAR
PRODID:-//eluceo/ical//2.0/EN
VERSION:2.0
CALSCALE:GREGORIAN
BEGIN:VEVENT
UID:3f61481827ee4f7f65658d851647d102
DTSTAMP:20260422T185541Z
SUMMARY:Kettlebell Amped
DESCRIPTION:Shaw JCC of Akron\nJCC Calendar\nhttps://shawjcc.org/jcccalenda
 r/kettlebell-amped-01062018\n\nKettlebell AMPD takes heart-pumping music a
 nd your favorite kettlebell moves and combines them into calorie-torching 
 fun! This whole-body workout emphasizes group fitness and focuses on speci
 fic areas such as arms\, legs\, core\, and cardio. Each song concentrates 
 on a main area\, while still maintaining a whole-body routine. (All levels
 )
DTSTART;TZID=America/New_York:20180107T090000
DTEND;TZID=America/New_York:20180107T094500
END:VEVENT
END:VCALENDAR
