BEGIN:VCALENDAR
PRODID:-//eluceo/ical//2.0/EN
VERSION:2.0
CALSCALE:GREGORIAN
BEGIN:VEVENT
UID:5a50489e5b8c82ee27e0051734a1b56f
DTSTAMP:20260423T130037Z
SUMMARY:Kids' Bootcamp
DESCRIPTION:Shaw JCC of Akron\nJCC Calendar\nhttps://shawjcc.org/jcccalenda
 r/kids-bootcamp-07082018\n\nFREE for J members! 
DTSTART;TZID=America/New_York:20180708T103000
DTEND;TZID=America/New_York:20180708T113000
END:VEVENT
END:VCALENDAR
