BEGIN:VCALENDAR
PRODID:-//eluceo/ical//2.0/EN
VERSION:2.0
CALSCALE:GREGORIAN
BEGIN:VEVENT
UID:f8814cb545c293960541f739ac74c67b
DTSTAMP:20260422T194332Z
SUMMARY:Kids in the Kitchen with Ms. Kim
DESCRIPTION:Shaw JCC of Akron\nJCC Calendar\nhttps://shawjcc.org/jcccalenda
 r/kids-in-the-kitchen-with-ms-kim-01172018\n\nChildren will join Ms. Kim t
 o create kid-friendly\, easy to replicate recipes using a variety of kitch
 en appliances and tools. Children will mix\, blend\, chop\, grate and pour
  ingredients to create their own culinary masterpieces. A recipe page will
  be created each week for a take home recipe book at the end of the progra
 m.
DTSTART;TZID=America/New_York:20180117T131500
DTEND;TZID=America/New_York:20180117T140000
END:VEVENT
END:VCALENDAR
