BEGIN:VCALENDAR
PRODID:-//eluceo/ical//2.0/EN
VERSION:2.0
CALSCALE:GREGORIAN
BEGIN:VEVENT
UID:1944a6eb8add7cd0c28b927bd1d7e57f
DTSTAMP:20260423T025519Z
SUMMARY:Kids in the Kitchen with Ms. Kim
DESCRIPTION:Shaw JCC of Akron\nJCC Calendar\nhttps://shawjcc.org/jcccalenda
 r/kids-in-the-kitchen-with-ms-kim-1526481\n\nChildren will join Ms. Kim to
  create kid-friendly\, easy to replicate recipes using a variety of kitche
 n appliances and tools. Children will mix\, blend\, chop\, grate and pour 
 ingredients to create their own culinary masterpieces. A page for a take h
 ome recipe book will be created each week and sent home after the cooking 
 session.\n\nCost: $55 M/$65 G\n\n401.656
DTSTART;TZID=America/New_York:20171004T131500
DTEND;TZID=America/New_York:20171004T140000
END:VEVENT
END:VCALENDAR
