BEGIN:VCALENDAR
PRODID:-//eluceo/ical//2.0/EN
VERSION:2.0
CALSCALE:GREGORIAN
BEGIN:VEVENT
UID:106f79ccf17a3ee2c47f60be7fbccd5c
DTSTAMP:20260422T152444Z
SUMMARY:Kindergarten Quandary
DESCRIPTION:Shaw JCC of Akron\nJCC Calendar\nhttps://shawjcc.org/jcccalenda
 r/kindergarten-quandary-293508\n\nPlease join The Lippman School for an in
 formative discussion "When Will My Child Be Ready For Kindergarten".\nThis
  discussion will be led by Dr. David Steinweg.\n\nLOCATION: The Woll Famil
 y Center for Innovation\n\nDAY: Wednesday\, January 16\, 2019\n\nTIME: 6:0
 0-7:30 PM\n\n \n\nPlease call The Lippman School at 330-836-0419 or email
  ccohen@thelippmanschool.org. 
DTSTART;TZID=America/New_York:20190116T180000
DTEND;TZID=America/New_York:20190116T193000
END:VEVENT
END:VCALENDAR
