BEGIN:VCALENDAR
PRODID:-//eluceo/ical//2.0/EN
VERSION:2.0
CALSCALE:GREGORIAN
BEGIN:VEVENT
UID:39086d9272ac95b5083f078ac3d11467
DTSTAMP:20260420T134050Z
SUMMARY:Koffee & Kibbutz with Carol & Julie
DESCRIPTION:Shaw JCC of Akron\nJCC Calendar\nhttps://shawjcc.org/jcccalenda
 r/koffee-kibbutz-with-carol--julie\n\nJoin Carol and Julie in the JCC lobb
 y after your exercise workout to relax with friends\, enjoy a cup of coffe
 e and light nosh\, find out what’s going on in the Senior Adult world\, 
 and give us suggestions about future programming you might like to see. Re
 servations are not necessary. Just stop by and join us for some koffee and
  kibbutz!
DTSTART;TZID=America/New_York:20190315T104500
DTEND;TZID=America/New_York:20190315T114500
END:VEVENT
END:VCALENDAR
