BEGIN:VCALENDAR
PRODID:-//eluceo/ical//2.0/EN
VERSION:2.0
CALSCALE:GREGORIAN
BEGIN:VEVENT
UID:a8e3ed51bb022d4c5ec507eddc782f45
DTSTAMP:20260422T165955Z
SUMMARY:Laughter and Breathing
DESCRIPTION:Shaw JCC of Akron\nJCC Calendar\nhttps://shawjcc.org/jcccalenda
 r/laughter-and-breathing-05292018\n\nOur own senior exercise instructor Ca
 rol Kushkin will lead us in an entertaining and informational class about 
 the power of laughter and the benefit of certain breathing exercises. Free
  and open to the public.
DTSTART;TZID=America/New_York:20180529T110000
DTEND;TZID=America/New_York:20180529T120000
END:VEVENT
END:VCALENDAR
