BEGIN:VCALENDAR
PRODID:-//eluceo/ical//2.0/EN
VERSION:2.0
CALSCALE:GREGORIAN
BEGIN:VEVENT
UID:934c9b53757d6f9d8da4ef1dd5dc4cf5
DTSTAMP:20260423T231708Z
SUMMARY:Laughter and Breathing Workshop
DESCRIPTION:Shaw JCC of Akron\nJCC Calendar\nhttps://shawjcc.org/jcccalenda
 r/laughter-and-breathing-workshop-1549482247-301145\n\nLaughter and breath
 ing exercises can improve your mental and physical health. Carol will lead
  us through our second informational and entertaining class as we learn mo
 re about the healing power of laughter and the benefit of certain breathin
 g exercises. If you missed Carol’s previous class\, you’re in for some
  real fun!
DTSTART;TZID=America/New_York:20190326T110000
DTEND;TZID=America/New_York:20190326T120000
END:VEVENT
END:VCALENDAR
