BEGIN:VCALENDAR
PRODID:-//eluceo/ical//2.0/EN
VERSION:2.0
CALSCALE:GREGORIAN
BEGIN:VEVENT
UID:d4eaeceb8f65de1d833658d0ce558a94
DTSTAMP:20260419T194200Z
SUMMARY:Level 1 (ages 5+) -American Red Cross Swim Lessons
DESCRIPTION:Shaw JCC of Akron\nJCC Calendar\nhttps://shawjcc.org/jcccalenda
 r/level-1-129\n\nYour child will learn the foundation for basic swimming s
 kills\, become comfortable in water\, learn how to front crawl while assis
 ted and how to kick and float on his/ her own. Cost: $43 M/$65 G Mondays-T
 hursdays at 9:45-10:15 a.m. July 3-13 (2 weeks\; No class July 4)\n\n603.1
 29 
DTSTART;TZID=America/New_York:20170703T094500
DTEND;TZID=America/New_York:20170703T101500
END:VEVENT
END:VCALENDAR
