BEGIN:VCALENDAR
PRODID:-//eluceo/ical//2.0/EN
VERSION:2.0
CALSCALE:GREGORIAN
BEGIN:VEVENT
UID:9d590740eca2f3eda12370e2ec0b7f9c
DTSTAMP:20260422T181532Z
SUMMARY:Level 1 (ages 5+) - American Red Cross Swim Lessons
DESCRIPTION:Shaw JCC of Akron\nJCC Calendar\nhttps://shawjcc.org/jcccalenda
 r/level-1-ages-5-american-red-cross-swim-lessons-june19\n\nMondays-Thursda
 ys at 9:45-10:15 a.m. June 19-29 (2 weeks) 603.128 \n\nYour child will le
 arn the foundation for basic swimming skills\, become comfortable in water
 \, learn how to front crawl while assisted and how to kick and float on hi
 s/her own. Cost: $40 M/$60 G\n\nCall 330-867-7850 or stop by the desk to r
 egister!\n\n 
DTSTART;TZID=America/New_York:20170619T094500
DTEND;TZID=America/New_York:20170619T101500
END:VEVENT
END:VCALENDAR
