BEGIN:VCALENDAR
PRODID:-//eluceo/ical//2.0/EN
VERSION:2.0
CALSCALE:GREGORIAN
BEGIN:VEVENT
UID:2b433a52530c1087c7ae53d1805fdb1c
DTSTAMP:20260422T233339Z
SUMMARY:Level 1 (ages 5+) - American Red Cross Swimming Lessons
DESCRIPTION:Shaw JCC of Akron\nJCC Calendar\nhttps://shawjcc.org/jcccalenda
 r/level-1-ages-5-american-red-cross-swimming-lessons-01082018\n\nYour chil
 d will learn the foundation for basic swimming skills\, become comfortable
  in water\, learn how to front crawl while assisted and how to kick and f
 loat on his/her own.\n\n603.103
DTSTART;TZID=America/New_York:20180108T180000
DTEND;TZID=America/New_York:20180108T183000
END:VEVENT
END:VCALENDAR
