BEGIN:VCALENDAR
PRODID:-//eluceo/ical//2.0/EN
VERSION:2.0
CALSCALE:GREGORIAN
BEGIN:VEVENT
UID:4878baab304bbf62da70f7f2c8c1dbf9
DTSTAMP:20260423T045410Z
SUMMARY:Level 1 (ages 5+) - American Red Cross Swimming Lessons
DESCRIPTION:Shaw JCC of Akron\nJCC Calendar\nhttps://shawjcc.org/jcccalenda
 r/level-1-ages-5-american-red-cross-swimming-lessons-02122018\n\nYour chil
 d will learn the foundation for basic swimming skills\, become comfortable
  in water\, learn how to front crawl while assisted and how to kick and f
 loat on his/her own.\n\n603.103
DTSTART;TZID=America/New_York:20180212T180000
DTEND;TZID=America/New_York:20180212T183000
END:VEVENT
END:VCALENDAR
