BEGIN:VCALENDAR
PRODID:-//eluceo/ical//2.0/EN
VERSION:2.0
CALSCALE:GREGORIAN
BEGIN:VEVENT
UID:1e9cc217f93da5da9697ecb38264a552
DTSTAMP:20260424T214507Z
SUMMARY:Level 1 (ages 5+) - American Red Cross Swimming Lessons
DESCRIPTION:Shaw JCC of Akron\nJCC Calendar\nhttps://shawjcc.org/jcccalenda
 r/level-1-ages-5-american-red-cross-swimming-lessons-06252018\n\nYour chil
 d will learn the foundation for basic swimming skills\, become comfortable
  in water\, learn how to front crawl while assisted and how to kick and fl
 oat on his/her own.\n\nClass runs June 25-July 5\n\n603.110
DTSTART;TZID=America/New_York:20180625T094500
DTEND;TZID=America/New_York:20180625T101500
END:VEVENT
END:VCALENDAR
