BEGIN:VCALENDAR
PRODID:-//eluceo/ical//2.0/EN
VERSION:2.0
CALSCALE:GREGORIAN
BEGIN:VEVENT
UID:75c113a3952775e8a4971a43e0de4f4c
DTSTAMP:20260422T083912Z
SUMMARY:Level 1 (ages 5+) - American Red Cross Swimming Lessons
DESCRIPTION:Shaw JCC of Akron\nJCC Calendar\nhttps://shawjcc.org/jcccalenda
 r/level-1-ages-5-american-red-cross-swimming-lessons32156\n\nYour child wi
 ll learn the foundation for basic swimming skills\, become comfortable in 
 water\, learn how to front crawl while assisted and how to kick and float
  on his/her own.\n\nCost: $43 M/$65 G
DTSTART;TZID=America/New_York:20171120T180000
DTEND;TZID=America/New_York:20171120T183000
END:VEVENT
END:VCALENDAR
