BEGIN:VCALENDAR
PRODID:-//eluceo/ical//2.0/EN
VERSION:2.0
CALSCALE:GREGORIAN
BEGIN:VEVENT
UID:129083306b8adda296b98c73cd1ee47c
DTSTAMP:20260424T053553Z
SUMMARY:Level 1 American Red Cross Swim Lessons
DESCRIPTION:Shaw JCC of Akron\nJCC Calendar\nhttps://shawjcc.org/jcccalenda
 r/level-1-american-red-cross-swim-lessons-june172019\n\nYour child will le
 arn the foundation for basic swimming skills\, become comfortable in water
 \, learn how to front crawl while assisted and how to kick and float on hi
 s/her own. \n\n603.109\n\nCost: $43 Memeber/$65 Guest \n\nJun. 17-27 Mon
 days\, Tuesdays\, Wednesdays\, & Thursdays 9:45-10:15 a.m. 
DTSTART;TZID=America/New_York:20190617T094500
DTEND;TZID=America/New_York:20190617T101500
END:VEVENT
END:VCALENDAR
