BEGIN:VCALENDAR
PRODID:-//eluceo/ical//2.0/EN
VERSION:2.0
CALSCALE:GREGORIAN
BEGIN:VEVENT
UID:7f63b3f320f132bc9c088c68f81f2e84
DTSTAMP:20260423T152610Z
SUMMARY:Level 1 American Red Cross Swim Lessons
DESCRIPTION:Shaw JCC of Akron\nJCC Calendar\nhttps://shawjcc.org/jcccalenda
 r/level-1-american-red-cross-swim-lessonsMar25-301568\n\nYour child will l
 earn the foundation for basic swimming skills\, become comfortable in wate
 r\, learn how to front crawl while assisted and how to kick and float on h
 is/her own.\n\n603.102         Cost: $43 M/$65 G Mar. 25-Apr. 17 
          Mondays & Wednesdays  6-6:30 p.m. \n\n603.104     
     Cost: $43 M/$65 G Mar. 9-Apr. 27        Saturdays    10-1
 0:30 a.m.​
DTSTART;TZID=America/New_York:20190325T180000
DTEND;TZID=America/New_York:20190325T183000
END:VEVENT
END:VCALENDAR
