BEGIN:VCALENDAR
PRODID:-//eluceo/ical//2.0/EN
VERSION:2.0
CALSCALE:GREGORIAN
BEGIN:VEVENT
UID:d2dcc18a44074ee509859af9e2b14ee2
DTSTAMP:20260422T235031Z
SUMMARY:Level 1 American Red Cross Swim Lessons
DESCRIPTION:Shaw JCC of Akron\nJCC Calendar\nhttps://shawjcc.org/jcccalenda
 r/level-1-american-red-cross-swim-lessonsMar9-301575\n\nYour child will le
 arn the foundation for basic swimming skills\, become comfortable in water
 \, learn how to front crawl while assisted and how to kick and float on hi
 s/her own. \n\n603.104         Cost: $43 M/$65 G Mar. 9-Apr. 27 
        Saturdays    10-10:30 a.m\n\n.603.102         Cost
 : $43 M/$65 G Mar. 25-Apr. 17     Mondays & Wednesdays  6-6:30 p.m.\n\n
 \n 
DTSTART;TZID=America/New_York:20190309T100000
DTEND;TZID=America/New_York:20190309T103000
END:VEVENT
END:VCALENDAR
