BEGIN:VCALENDAR
PRODID:-//eluceo/ical//2.0/EN
VERSION:2.0
CALSCALE:GREGORIAN
BEGIN:VEVENT
UID:c8a390f79756ca0efb92aaf97e7e0c91
DTSTAMP:20260422T231231Z
SUMMARY:Level 1 American Red Cross Swim Lessons
DESCRIPTION:Shaw JCC of Akron\nJCC Calendar\nhttps://shawjcc.org/jcccalenda
 r/level-1-american-red-cross-swim-lessonsoct14-325593\n\nYour child will l
 earn the foundation for basic swimming skills\, become comfortable in wate
 r\, learn how to front crawl while assisted and how to kick and float on h
 is or her own. \n\nCost: $45 M/ $65 G\n\n603.116\n\nMondays & Wednesdays 
 Oct. 14-Nov. 6\, 6-6:30 p.m. 
DTSTART;TZID=America/New_York:20191014T180000
DTEND;TZID=America/New_York:20191014T183000
END:VEVENT
END:VCALENDAR
