BEGIN:VCALENDAR
PRODID:-//eluceo/ical//2.0/EN
VERSION:2.0
CALSCALE:GREGORIAN
BEGIN:VEVENT
UID:e6b59e1aaf45e4c4b52e96678a75b919
DTSTAMP:20260422T152404Z
SUMMARY:Level 1 Swim Lessons (ages 5+)
DESCRIPTION:Shaw JCC of Akron\nJCC Calendar\nhttps://shawjcc.org/jcccalenda
 r/level-1-swim-lessons-ages-5-nov29\n\nLevel 1 (ages 5+) - American Red Cr
 oss\, Cost: $40 M/$60 G\nYour child will learn the foundation for basic sw
 imming skills\, become comfortable in water\, learn how to front crawl whi
 le assisted and how to kick and float on their own.\n\nTuesdays & Thursday
 s \nNov. 28-Dec. 21\n4:25 p.m.-5:10 p.m.\n603.119\n\n \n\n 
DTSTART;TZID=America/New_York:20161128T162500
DTEND;TZID=America/New_York:20161128T171000
END:VEVENT
END:VCALENDAR
