BEGIN:VCALENDAR
PRODID:-//eluceo/ical//2.0/EN
VERSION:2.0
CALSCALE:GREGORIAN
BEGIN:VEVENT
UID:bf5a7394d6ead0912b1a8f39c5403407
DTSTAMP:20260422T220017Z
SUMMARY:Level 2 (ages 5+) - American Red Cross Swim Lessons
DESCRIPTION:Shaw JCC of Akron\nJCC Calendar\nhttps://shawjcc.org/jcccalenda
 r/level-2-ages-5-american-red-cross-swim-lessons-01132018\n\nExpanding on 
 their basic skills\, your child will learn to paddle with their face in th
 e water\, float unassisted and tread water.\n\n603.151
DTSTART;TZID=America/New_York:20180113T100000
DTEND;TZID=America/New_York:20180113T103000
END:VEVENT
END:VCALENDAR
