BEGIN:VCALENDAR
PRODID:-//eluceo/ical//2.0/EN
VERSION:2.0
CALSCALE:GREGORIAN
BEGIN:VEVENT
UID:3ae51bf2c5e8ad778a9bc858c08271d4
DTSTAMP:20260422T161755Z
SUMMARY:Level 2 (ages 5+) - American Red Cross Swim Lessons
DESCRIPTION:Shaw JCC of Akron\nJCC Calendar\nhttps://shawjcc.org/jcccalenda
 r/level-2-ages-5-american-red-cross-swim-lessons2315445\n\nExpanding on th
 eir basic skills\, your child will learn to paddle with their face in the 
 water\, float unassisted and tread water. \n\nCost: $43 M/$65 G
DTSTART;TZID=America/New_York:20171120T180000
DTEND;TZID=America/New_York:20171120T183000
END:VEVENT
END:VCALENDAR
