BEGIN:VCALENDAR
PRODID:-//eluceo/ical//2.0/EN
VERSION:2.0
CALSCALE:GREGORIAN
BEGIN:VEVENT
UID:24e69418828dc07fef3db224ec4f1e32
DTSTAMP:20260424T023336Z
SUMMARY:Level 2 (ages 5+) - American Red Cross Swim Lessons
DESCRIPTION:Shaw JCC of Akron\nJCC Calendar\nhttps://shawjcc.org/jcccalenda
 r/level-2-ages-5-american-red-cross-swim-lessons238\n\n Expanding on thei
 r basic skills\, your child will learn to paddle with their face in the wa
 ter\, float unassisted and tread water. Cost: $43 M/$65 G\n\nMondays-Thurs
 days at 9:45-10:15 a.m.\n\n July 31- Aug.10 (2 weeks)\n\n603.238
DTSTART;TZID=America/New_York:20170731T094500
DTEND;TZID=America/New_York:20170731T101500
END:VEVENT
END:VCALENDAR
