BEGIN:VCALENDAR
PRODID:-//eluceo/ical//2.0/EN
VERSION:2.0
CALSCALE:GREGORIAN
BEGIN:VEVENT
UID:db88dcc1b929b07dae148994d3984eb1
DTSTAMP:20260423T233414Z
SUMMARY:Level 2 (ages 5+) - American Red Cross Swim Lessons
DESCRIPTION:Shaw JCC of Akron\nJCC Calendar\nhttps://shawjcc.org/jcccalenda
 r/level-2-ages-5-american-red-cross-swim-lessons242\n\nExpanding on their 
 basic skills\, your child will learn to paddle with their face in the wate
 r\, float unassisted and tread water. Cost: $43 M/$65 G\n\nMondays & Wedne
 sdays at 6-6:30 p.m.\n\n Sept. 11-Oct. 9 (No class Sept. 20)\n\n603.242
DTSTART;TZID=America/New_York:20170911T180000
DTEND;TZID=America/New_York:20170911T183000
END:VEVENT
END:VCALENDAR
