BEGIN:VCALENDAR
PRODID:-//eluceo/ical//2.0/EN
VERSION:2.0
CALSCALE:GREGORIAN
BEGIN:VEVENT
UID:ec17825bac96d65a980e8b5c55588a1e
DTSTAMP:20260422T044619Z
SUMMARY:Level 2 (ages 5+) - American Red Cross Swimming Lessons
DESCRIPTION:Shaw JCC of Akron\nJCC Calendar\nhttps://shawjcc.org/jcccalenda
 r/level-2-ages-5-american-red-cross-swimming-lessons-09152018\n\nChildren 
 must have gone through level 1 or be comfortable in the water and able to 
 float on their back and front while supported. Children will learn to padd
 le with their face in the water\, front and back float unassisted and tre
 ad water.\n\nSaturdays\, Sept. 22-Nov. 10 \n603.166
DTSTART;TZID=America/New_York:20180922T100000
DTEND;TZID=America/New_York:20180922T103000
END:VEVENT
END:VCALENDAR
