BEGIN:VCALENDAR
PRODID:-//eluceo/ical//2.0/EN
VERSION:2.0
CALSCALE:GREGORIAN
BEGIN:VEVENT
UID:62a14ae1e3bd173e12b7a5c8ee69eed4
DTSTAMP:20260422T044337Z
SUMMARY:Level 2 (ages 5+) - American Red Cross Swimming Lessons
DESCRIPTION:Shaw JCC of Akron\nJCC Calendar\nhttps://shawjcc.org/jcccalenda
 r/level-2-ages-5-american-red-cross-swimming-lessons-10222018\n\nChildren 
 must have gone through level 1 or be comfortable in the water and able to 
 float on their back and front while supported. Children will learn to padd
 le with face in the water\, front and back float unassisted and tread wate
 r.\n\nMondays & Wednesdays\, Oct. 22-Nov. 14\n603.164
DTSTART;TZID=America/New_York:20181022T180000
DTEND;TZID=America/New_York:20181022T183000
END:VEVENT
END:VCALENDAR
