BEGIN:VCALENDAR
PRODID:-//eluceo/ical//2.0/EN
VERSION:2.0
CALSCALE:GREGORIAN
BEGIN:VEVENT
UID:b09babd57c8d2ea5244c260800445c24
DTSTAMP:20260422T211531Z
SUMMARY:Level 2 America Red Cross Swim Lessons
DESCRIPTION:Shaw JCC of Akron\nJCC Calendar\nhttps://shawjcc.org/jcccalenda
 r/level-2-america-red-cross-swim-lessons-325598\n\nChildren must have gone
  through level 1 or be comfortable in the water and able to float on their
  back and front while supported. Children will learn to paddle with face i
 n the water\, front and back float unassisted and tread water.\n\nCost: $4
 5 M / $64 G\n\n603.017 Mondays & Wednesdays  Nov. 11-Dec. 4\,  5:30-6 p
 .m.\n\n 
DTSTART;TZID=America/New_York:20191111T180000
DTEND;TZID=America/New_York:20191111T183000
END:VEVENT
END:VCALENDAR
