BEGIN:VCALENDAR
PRODID:-//eluceo/ical//2.0/EN
VERSION:2.0
CALSCALE:GREGORIAN
BEGIN:VEVENT
UID:436e71945a848b1ad95f3bbf940c4f3c
DTSTAMP:20260422T003232Z
SUMMARY:Level 2 American Red Cross Swim Lessons
DESCRIPTION:Shaw JCC of Akron\nJCC Calendar\nhttps://shawjcc.org/jcccalenda
 r/level-2-american-red-cross-swim-lesson2020-337744\n\nThis class is for s
 wimmers who have completed the LEVEL 1 class and who are comfortable float
 ing on their back and front (supported).\n\nSwimmers will learn how to:\n\
 n\nPaddle with their face in the water\nFront and back float (unassisted)\
 nTread water\n\n\nOctober 26-November 18\n\nCost: $50/M $75/G\n\n 
DTSTART;TZID=America/New_York:20201026T180000
DTEND;TZID=America/New_York:20201026T183000
END:VEVENT
END:VCALENDAR
