BEGIN:VCALENDAR
PRODID:-//eluceo/ical//2.0/EN
VERSION:2.0
CALSCALE:GREGORIAN
BEGIN:VEVENT
UID:df43cb0bbf803cd1e2b4cd56cd50f11e
DTSTAMP:20260425T042241Z
SUMMARY:Level 2 American Red Cross Swim Lessons
DESCRIPTION:Shaw JCC of Akron\nJCC Calendar\nhttps://shawjcc.org/jcccalenda
 r/level-2-american-red-cross-swim-lessons-may132019\n\nChildren must have 
 gone through level 1 or be comfortable in the water and able to float on t
 heir back and front while supported. Children will learn to paddle with fa
 ce in the water\, front and back float unassisted and tread water.\n\n603.
 155\n\nCost: $43 Member/$65 Guest\n\nMay. 13-Jun.5 Mondays & Wednesdays 6-
 6:30 p.m. \n\n(No Lessons May 27) 
DTSTART;TZID=America/New_York:20190513T180000
DTEND;TZID=America/New_York:20190513T183000
END:VEVENT
END:VCALENDAR
