BEGIN:VCALENDAR
PRODID:-//eluceo/ical//2.0/EN
VERSION:2.0
CALSCALE:GREGORIAN
BEGIN:VEVENT
UID:db94bad658496d9f306b0efa289ab02f
DTSTAMP:20260423T062326Z
SUMMARY:Level 2 American Red Cross Swim Lessons
DESCRIPTION:Shaw JCC of Akron\nJCC Calendar\nhttps://shawjcc.org/jcccalenda
 r/level-2-american-red-cross-swim-lessonsMar9-301578\n\nChildren must have
  gone through level 1 or be comfortable in the water and able to float on 
 their back and front while supported. Children will learn to paddle with f
 ace in the water\, front and back float unassisted and tread water.  \n\n
 603.154         Cost: $43 M/$65 G Mar. 9-Apr. 27        Sat
 urdays    10-10:30 a.m​  \n\n603.152         Cost: $43 M/$65 G M
 ar. 25-Apr. 17      Mondays & Wednesdays  6-6:30 p.m. ​\n\n \n\n \
 n\n 
DTSTART;TZID=America/New_York:20190309T100000
DTEND;TZID=America/New_York:20190309T103000
END:VEVENT
END:VCALENDAR
