BEGIN:VCALENDAR
PRODID:-//eluceo/ical//2.0/EN
VERSION:2.0
CALSCALE:GREGORIAN
BEGIN:VEVENT
UID:ae78f1ff6ab4b7de22a5db2de20ee8cf
DTSTAMP:20260424T084002Z
SUMMARY:Level 2 American Red Cross Swim Lessons
DESCRIPTION:Shaw JCC of Akron\nJCC Calendar\nhttps://shawjcc.org/jcccalenda
 r/level-2-american-red-cross-swim-lessonsjan6-337559\n\nThis class is for 
 swimmers who have completed the LEVEL 1 class and who are comfortable floa
 ting on their back and front (supported). \n\nSwimmers will learn how to:
 \n\n\nPaddle with their face in the water\nFront and back float (unassiste
 d)\nTread water\n\n\nMon. & Wed.\, 5-5:30 p.m.\n\nJan. 6-29\n\nCost: $50/M
  $75/G\n\n603.166
DTSTART;TZID=America/New_York:20200106T180000
DTEND;TZID=America/New_York:20200106T183000
END:VEVENT
END:VCALENDAR
