BEGIN:VCALENDAR
PRODID:-//eluceo/ical//2.0/EN
VERSION:2.0
CALSCALE:GREGORIAN
BEGIN:VEVENT
UID:91abcc16bb0ceb01653398097c649afd
DTSTAMP:20260421T103014Z
SUMMARY:Level 2 American Red Cross Swim Lessons
DESCRIPTION:Shaw JCC of Akron\nJCC Calendar\nhttps://shawjcc.org/jcccalenda
 r/level-2-american-red-cross-swim-lessonsoct14-325596\n\nChildren must hav
 e gone through level 1 or be comfortable in the water and able to float on
  their back and front while supported. Children will learn to paddle with 
 face in the water\, front and back float unassisted and tread water.\n\nCo
 st: $45 M/ $65 G\n\n603.166\n\nMondays & Wednesdays  Oct. 14-Nov. 6\, 6-
 6:30 p.m. 
DTSTART;TZID=America/New_York:20191014T180000
DTEND;TZID=America/New_York:20191014T183000
END:VEVENT
END:VCALENDAR
