BEGIN:VCALENDAR
PRODID:-//eluceo/ical//2.0/EN
VERSION:2.0
CALSCALE:GREGORIAN
BEGIN:VEVENT
UID:60896f97173332fa416f433005580161
DTSTAMP:20260422T175039Z
SUMMARY:Level 3 (ages 5+) - American Red Cross Swimming Lessons
DESCRIPTION:Shaw JCC of Akron\nJCC Calendar\nhttps://shawjcc.org/jcccalenda
 r/level-3-ages-5-american-red-cross-swimming-lessons-01132018\n\nBuilding 
 on the foundation learned in previous levels\, your child will develop the
  skills to do the elementary backstroke\, front and back crawl and the but
 terfly kick.\n\n603.202
DTSTART;TZID=America/New_York:20180113T103000
DTEND;TZID=America/New_York:20180113T111500
END:VEVENT
END:VCALENDAR
