BEGIN:VCALENDAR
PRODID:-//eluceo/ical//2.0/EN
VERSION:2.0
CALSCALE:GREGORIAN
BEGIN:VEVENT
UID:982b5c98e11dc5d903e5aff70b589c9a
DTSTAMP:20260422T120816Z
SUMMARY:Level 3 (ages 5+) - American Red Cross Swimming Lessons
DESCRIPTION:Shaw JCC of Akron\nJCC Calendar\nhttps://shawjcc.org/jcccalenda
 r/level-3-ages-5-american-red-cross-swimming-lessons-03192018\n\nBuilding 
 on the foundation learned in previous levels\, your child will develop the
  skills to do the elementary backstroke\, front and back crawl and the but
 terfly kick.\n\n603.205
DTSTART;TZID=America/New_York:20180319T183000
DTEND;TZID=America/New_York:20180319T191500
END:VEVENT
END:VCALENDAR
