BEGIN:VCALENDAR
PRODID:-//eluceo/ical//2.0/EN
VERSION:2.0
CALSCALE:GREGORIAN
BEGIN:VEVENT
UID:613aad747af86ff33e193cc9a779a87f
DTSTAMP:20260422T214018Z
SUMMARY:Level 3 (ages 5+) - American Red Cross Swimming Lessons
DESCRIPTION:Shaw JCC of Akron\nJCC Calendar\nhttps://shawjcc.org/jcccalenda
 r/level-3-ages-5-american-red-cross-swimming-lessons-07162018\n\nChildren 
 must complete level 2 or be able to swim unassisted for a short distance a
 nd be comfortable in deep water. Building on the foundation learned in pre
 vious levels\, your child will develop the skills to do the elementary bac
 kstroke\, front and back crawl and the butterfly kick.\n\nClass runs July 
 16-Aug. 8\n\n603.208
DTSTART;TZID=America/New_York:20180716T183000
DTEND;TZID=America/New_York:20180716T191500
END:VEVENT
END:VCALENDAR
