BEGIN:VCALENDAR
PRODID:-//eluceo/ical//2.0/EN
VERSION:2.0
CALSCALE:GREGORIAN
BEGIN:VEVENT
UID:31b5cb2126a5b6aed4097f29db623387
DTSTAMP:20260422T233249Z
SUMMARY:Level 3 (ages 5+) - American Red Cross Swimming Lessons
DESCRIPTION:Shaw JCC of Akron\nJCC Calendar\nhttps://shawjcc.org/jcccalenda
 r/level-3-ages-5-american-red-cross-swimming-lessons-07232018\n\nChildren 
 must complete level 2 or be able to swim unassisted for a short distance a
 nd be comfortable in deep water. Building on the foundation learned in pre
 vious levels\, your child will develop the skills to do the elementary bac
 kstroke\, front and back crawl and the butterfly kick.\n\nClass runs July 
 23 through Aug. 2\n\n603.212
DTSTART;TZID=America/New_York:20180723T090000
DTEND;TZID=America/New_York:20180723T094500
END:VEVENT
END:VCALENDAR
