BEGIN:VCALENDAR
PRODID:-//eluceo/ical//2.0/EN
VERSION:2.0
CALSCALE:GREGORIAN
BEGIN:VEVENT
UID:766124beacd96ad921bd1a4b0d7dd8d5
DTSTAMP:20260421T055624Z
SUMMARY:Level 3 (ages 5+) - American Red Cross Swimming Lessons
DESCRIPTION:Shaw JCC of Akron\nJCC Calendar\nhttps://shawjcc.org/jcccalenda
 r/level-3-ages-5-american-red-cross-swimming-lessons-09122018\n\nChildren 
 must have gone through level 2 or be able to swim unassisted for a short d
 istance and be comfortable in deep water. Building on the foundation learn
 ed in previous levels\, your child will develop the skills to do the eleme
 ntary backstroke\, front and back crawl and the butterfly kick.\n\nMondays
  & Wednesdays\, Sept. 24-Oct. 17\n603.213
DTSTART;TZID=America/New_York:20180924T183000
DTEND;TZID=America/New_York:20180924T191500
END:VEVENT
END:VCALENDAR
