BEGIN:VCALENDAR
PRODID:-//eluceo/ical//2.0/EN
VERSION:2.0
CALSCALE:GREGORIAN
BEGIN:VEVENT
UID:c405785f97f8bcb7ddac295ad347eaff
DTSTAMP:20260421T020810Z
SUMMARY:Level 3 (ages 5+) - American Red Cross Swimming Lessons
DESCRIPTION:Shaw JCC of Akron\nJCC Calendar\nhttps://shawjcc.org/jcccalenda
 r/level-3-ages-5-american-red-cross-swimming-lessons-09152018\n\nChildren 
 must have gone through level 2 or be able to swim unassisted for a short d
 istance and be comfortable in deep water. Building on the foundation learn
 ed in previous levels\, your child will develop the skills to do the eleme
 ntary backstroke\, front and back crawl and the butterfly kick.\n\nSaturda
 ys\, Sept. 22-Nov. 10 \n603.216
DTSTART;TZID=America/New_York:20180922T103000
DTEND;TZID=America/New_York:20180922T111500
END:VEVENT
END:VCALENDAR
