BEGIN:VCALENDAR
PRODID:-//eluceo/ical//2.0/EN
VERSION:2.0
CALSCALE:GREGORIAN
BEGIN:VEVENT
UID:1720ab374cc82f9bf2d0cec54c2ad1e4
DTSTAMP:20260422T103046Z
SUMMARY:Level 3 (ages 5+) - American Red Cross Swimming Lessons
DESCRIPTION:Shaw JCC of Akron\nJCC Calendar\nhttps://shawjcc.org/jcccalenda
 r/level-3-ages-5-american-red-cross-swimming-lessons-10222018\n\nChildren 
 must have gone through level 2 or be able to swim unassisted for a short d
 istance and be comfortable in deep water. Building on the foundation learn
 ed in previous levels\, your child will develop the skills to do the eleme
 ntary backstroke\, front and back crawl and the butterfly kick.\n\nMondays
  & Wednesdays\, Oct. 22-Nov. 14 \n603.214
DTSTART;TZID=America/New_York:20181022T183000
DTEND;TZID=America/New_York:20181022T191500
END:VEVENT
END:VCALENDAR
