BEGIN:VCALENDAR
PRODID:-//eluceo/ical//2.0/EN
VERSION:2.0
CALSCALE:GREGORIAN
BEGIN:VEVENT
UID:cea16b5e3712ea6693ad2df87e8d32d4
DTSTAMP:20260424T093153Z
SUMMARY:Level 3 (ages 5+) - American Red Cross Swimming Lessons
DESCRIPTION:Shaw JCC of Akron\nJCC Calendar\nhttps://shawjcc.org/jcccalenda
 r/level-3-ages-5-american-red-cross-swimming-lessons23156489\n\nBuilding o
 n the foundation learned in previous levels\, your child will develop the 
 skills to do the elementary backstroke\, front and back crawl and the butt
 erfly kick.\n\nCost: $43 M/$65 G
DTSTART;TZID=America/New_York:20171120T183000
DTEND;TZID=America/New_York:20171120T191500
END:VEVENT
END:VCALENDAR
