BEGIN:VCALENDAR
PRODID:-//eluceo/ical//2.0/EN
VERSION:2.0
CALSCALE:GREGORIAN
BEGIN:VEVENT
UID:f1cd5af70070b72f19cceaae7a8472f0
DTSTAMP:20260422T232543Z
SUMMARY:Level 3 American Red Cross Swim Lessons
DESCRIPTION:Shaw JCC of Akron\nJCC Calendar\nhttps://shawjcc.org/jcccalenda
 r/level-3-american-red-cross-swim-lessons-june172019\n\nChildren must have
  gone through level 2 or be able to swim unassisted for a short distance a
 nd be comfortable in deep water. Building on the foundation learned in pre
 vious levels\, your child will develop the skills to do the elementary bac
 kstroke\, front and back crawl and the butterfly kick. 603.209 Cost: $43 M
 /$65 G Jun. 17-27 Mondays\, Tuesdays 9-9:45 a.m. Wednesdays & Thursdays
DTSTART;TZID=America/New_York:20190617T090000
DTEND;TZID=America/New_York:20190617T094500
END:VEVENT
END:VCALENDAR
