BEGIN:VCALENDAR
PRODID:-//eluceo/ical//2.0/EN
VERSION:2.0
CALSCALE:GREGORIAN
BEGIN:VEVENT
UID:2c35cd82465edd1bcdc657e3b242709e
DTSTAMP:20260424T010229Z
SUMMARY:Level 3 American Red Cross Swim Lessons
DESCRIPTION:Shaw JCC of Akron\nJCC Calendar\nhttps://shawjcc.org/jcccalenda
 r/level-3-american-red-cross-swim-lessons-june32019\n\nChildren must have 
 gone through level 2 or be able to swim unassisted for a short distance an
 d be comfortable in deep water. Building on the foundation learned in prev
 ious levels\, your child will develop the skills to do the elementary back
 stroke\, front and back crawl and the butterfly kick.\n\n603.208\n\nCost: 
 $43 M/$65 G\n\nJun. 3 -13 Mondays\, Tuesdays\, Wednesdays\, & Thursdays 9-
 9:45 a.m.
DTSTART;TZID=America/New_York:20190603T090000
DTEND;TZID=America/New_York:20190603T094500
END:VEVENT
END:VCALENDAR
