BEGIN:VCALENDAR
PRODID:-//eluceo/ical//2.0/EN
VERSION:2.0
CALSCALE:GREGORIAN
BEGIN:VEVENT
UID:50eb132aa1d404a8db842d65eca34700
DTSTAMP:20260425T112433Z
SUMMARY:Level 3 American Red Cross Swim Lessons
DESCRIPTION:Shaw JCC of Akron\nJCC Calendar\nhttps://shawjcc.org/jcccalenda
 r/level-3-american-red-cross-swim-lessonsMar25-301580\n\nChildren must hav
 e gone through level 2 or be able to swim unassisted for a short distance 
 and be comfortable in deep water. Building on the foundation learned in pr
 evious levels\, your child will develop the skills to do the elementary ba
 ckstroke\, front and back crawl and the butterfly kick. \n\n603.202   
       Cost: $43 M/$65 G Mar. 25-Apr. 17          Mondays & W
 ednesdays  6:30-7:15 p.m. \n\n603.204         Cost: $43 M/$65 G 
 Mar. 9-Apr. 27            S...
DTSTART;TZID=America/New_York:20190325T183000
DTEND;TZID=America/New_York:20190325T191500
END:VEVENT
END:VCALENDAR
