BEGIN:VCALENDAR
PRODID:-//eluceo/ical//2.0/EN
VERSION:2.0
CALSCALE:GREGORIAN
BEGIN:VEVENT
UID:f6cc987f997f3b3bc2283c2cb949a4cd
DTSTAMP:20260425T011328Z
SUMMARY:Level 3 American Red Cross Swim Lessons
DESCRIPTION:Shaw JCC of Akron\nJCC Calendar\nhttps://shawjcc.org/jcccalenda
 r/level-3-american-red-cross-swim-lessonsnov11-325676\n\nChildren must hav
 e gone through level 2 or be able to swim unassisted for a short distance 
 and be comfortable in deep water. Building on the foundation learned in pr
 evious levels\, your child will develop the skills to do the elementary ba
 ckstroke\, front and back crawl and the butterfly kick.\n\nCost: $45 M/ $6
 5 G\n\n603.217\n\nMondays & Wednesdays  Nov. 11-Dec. 4\, 6:30-7:15 p.m.
DTSTART;TZID=America/New_York:20191111T183000
DTEND;TZID=America/New_York:20191111T191500
END:VEVENT
END:VCALENDAR
