BEGIN:VCALENDAR
PRODID:-//eluceo/ical//2.0/EN
VERSION:2.0
CALSCALE:GREGORIAN
BEGIN:VEVENT
UID:03e0f299c9de517e519264c27d6cf876
DTSTAMP:20260424T023809Z
SUMMARY:Level 3 American Red Cross Swim Lessons
DESCRIPTION:Shaw JCC of Akron\nJCC Calendar\nhttps://shawjcc.org/jcccalenda
 r/level-3-american-red-cross-swim-lessonsoct14-325673\n\nChildren must hav
 e gone through level 2 or be able to swim unassisted for a short distance 
 and be comfortable in deep water. Building on the foundation learned in pr
 evious levels\, your child will develop the skills to do the elementary ba
 ckstroke\, front and back crawl and the butterfly kick.\n\nCost: $45 M/ $6
 5 G\n\n603.216\n\nMondays & Wednesdays Oct. 14-Nov. 6\, 6:30-7:15 p.m. 
DTSTART;TZID=America/New_York:20191014T183000
DTEND;TZID=America/New_York:20191014T191500
END:VEVENT
END:VCALENDAR
