BEGIN:VCALENDAR
PRODID:-//eluceo/ical//2.0/EN
VERSION:2.0
CALSCALE:GREGORIAN
BEGIN:VEVENT
UID:c5dee74d96b1f9453633b83839b49b0a
DTSTAMP:20260420T132811Z
SUMMARY:Level 3 Swim Lessons (ages 5+)
DESCRIPTION:Shaw JCC of Akron\nJCC Calendar\nhttps://shawjcc.org/jcccalenda
 r/level-3-swim-lessons-ages-5\n\nTuesdays & Thursdays Oct. 25-Nov. 17 5:15
 -6 pm 603.334\n\nBuilding on the foundation learned in previous levels\, y
 our child will develop the skills to do the elementary backstroke\, front 
 and back crawl and the butterfly kick. Cost: $40 M/$60 G\n\nCall 330-867-
 7850 to register!\n\n 
DTSTART;TZID=America/New_York:20161025T170000
DTEND;TZID=America/New_York:20161025T181500
END:VEVENT
END:VCALENDAR
