BEGIN:VCALENDAR
PRODID:-//eluceo/ical//2.0/EN
VERSION:2.0
CALSCALE:GREGORIAN
BEGIN:VEVENT
UID:df4a6deda34631d2be9f3e8b4dad4176
DTSTAMP:20260421T065215Z
SUMMARY:Level 4 & 5 (Ages 5+) - American Red Cross Swim Lessons
DESCRIPTION:Shaw JCC of Akron\nJCC Calendar\nhttps://shawjcc.org/jcccalenda
 r/level-4-5-ages-5-american-red-cross\n\nYour child will learn to refine t
 heir breaststroke\, alternative breathing and sidestroke in addition to ne
 w skills.\nCost: $43 M/$65 G\nMondays-Thursdays at 9-9:45 a.m.\nJuly 3-13 
 (2 weeks\; No class July 4)\n\n603.451
DTSTART;TZID=America/New_York:20170703T090000
DTEND;TZID=America/New_York:20170703T094500
END:VEVENT
END:VCALENDAR
