BEGIN:VCALENDAR
PRODID:-//eluceo/ical//2.0/EN
VERSION:2.0
CALSCALE:GREGORIAN
BEGIN:VEVENT
UID:6063f3c117db75fd2b17a7ff140399c7
DTSTAMP:20260425T131656Z
SUMMARY:Level 4 & 5 (Ages 5+) - American Red Cross Swim Lessons
DESCRIPTION:Shaw JCC of Akron\nJCC Calendar\nhttps://shawjcc.org/jcccalenda
 r/level-4-5-ages-5-american-red-cross-swim-lessons-01082018\n\nYour child 
 will learn to refine their breaststroke\, alternative breathing and sidest
 roke in addition to new skills.
DTSTART;TZID=America/New_York:20180108T183000
DTEND;TZID=America/New_York:20180108T191500
END:VEVENT
END:VCALENDAR
