BEGIN:VCALENDAR
PRODID:-//eluceo/ical//2.0/EN
VERSION:2.0
CALSCALE:GREGORIAN
BEGIN:VEVENT
UID:13ddf5b27bf19de5326fc9f612add5bb
DTSTAMP:20260421T020710Z
SUMMARY:Level 4 & 5 (Ages 5+) - American Red Cross Swim Lessons
DESCRIPTION:Shaw JCC of Akron\nJCC Calendar\nhttps://shawjcc.org/jcccalenda
 r/level-4-5-ages-5-american-red-cross-swim-lessons-03192018\n\nYour child 
 will learn to refine their breaststroke\, alternative breathing and sidest
 roke in addition to new skills.\n\n603.255
DTSTART;TZID=America/New_York:20180319T183000
DTEND;TZID=America/New_York:20180319T191500
END:VEVENT
END:VCALENDAR
